BEGIN:VCALENDAR
VERSION:2.0
PRODID:-//Cornerstone Ministries - ECPv4.6.22.1//NONSGML v1.0//EN
CALSCALE:GREGORIAN
METHOD:PUBLISH
X-WR-CALNAME:Cornerstone Ministries
X-ORIGINAL-URL:https://cornerstoneministries.ca
X-WR-CALDESC:Events for Cornerstone Ministries
BEGIN:VEVENT
DTSTART;TZID=America/Winnipeg:20260318T154500
DTEND;TZID=America/Winnipeg:20260318T171500
DTSTAMP:20260424T090651
CREATED:20250826T144448Z
LAST-MODIFIED:20250826T144448Z
UID:8114-1773848700-1773854100@cornerstoneministries.ca
SUMMARY:Quest
DESCRIPTION:
URL:https://cornerstoneministries.ca/event/quest-69/
CATEGORIES:Quest
END:VEVENT
BEGIN:VEVENT
DTSTART;TZID=America/Winnipeg:20260318T193000
DTEND;TZID=America/Winnipeg:20260318T220000
DTSTAMP:20260424T090651
CREATED:20250904T170044Z
LAST-MODIFIED:20250904T170044Z
UID:8230-1773862200-1773871200@cornerstoneministries.ca
SUMMARY:Young Adults Gym Night
DESCRIPTION:
URL:https://cornerstoneministries.ca/event/young-adults-gym-night-52/
CATEGORIES:Young Adults
END:VEVENT
END:VCALENDAR