BEGIN:VCALENDAR
VERSION:2.0
PRODID:-//Cornerstone Ministries - ECPv4.6.22.1//NONSGML v1.0//EN
CALSCALE:GREGORIAN
METHOD:PUBLISH
X-WR-CALNAME:Cornerstone Ministries
X-ORIGINAL-URL:https://cornerstoneministries.ca
X-WR-CALDESC:Events for Cornerstone Ministries
BEGIN:VEVENT
DTSTART;TZID=America/Winnipeg:20260217T100000
DTEND;TZID=America/Winnipeg:20260217T120000
DTSTAMP:20260419T184031
CREATED:20260127T205547Z
LAST-MODIFIED:20260127T205547Z
UID:8555-1771322400-1771329600@cornerstoneministries.ca
SUMMARY:Practicing the Way
DESCRIPTION:
URL:https://cornerstoneministries.ca/event/practicing-the-way-4/
LOCATION:Cornerstone Ministries\, 131 new hope drive\, Crystal City\, manitoba\, r0k 0n0\, Canada
CATEGORIES:Study
END:VEVENT
BEGIN:VEVENT
DTSTART;TZID=America/Winnipeg:20260217T193000
DTEND;TZID=America/Winnipeg:20260217T220000
DTSTAMP:20260419T184031
CREATED:20250826T141752Z
LAST-MODIFIED:20250826T141752Z
UID:8071-1771356600-1771365600@cornerstoneministries.ca
SUMMARY:Sr Youth Night
DESCRIPTION:
URL:https://cornerstoneministries.ca/event/sr-youth-night-209/
LOCATION:manitoba
CATEGORIES:SR Youth
END:VEVENT
END:VCALENDAR