BEGIN:VCALENDAR
VERSION:2.0
PRODID:-//Cornerstone Ministries - ECPv4.6.22.1//NONSGML v1.0//EN
CALSCALE:GREGORIAN
METHOD:PUBLISH
X-WR-CALNAME:Cornerstone Ministries
X-ORIGINAL-URL:https://cornerstoneministries.ca
X-WR-CALDESC:Events for Cornerstone Ministries
BEGIN:VEVENT
DTSTART;TZID=America/Winnipeg:20260215T083000
DTEND;TZID=America/Winnipeg:20260215T120000
DTSTAMP:20260419T220330
CREATED:20250826T140647Z
LAST-MODIFIED:20250826T140647Z
UID:8027-1771144200-1771156800@cornerstoneministries.ca
SUMMARY:Worship Service
DESCRIPTION:
URL:https://cornerstoneministries.ca/event/worship-service-342/
CATEGORIES:Worship Service
END:VEVENT
BEGIN:VEVENT
DTSTART;TZID=America/Winnipeg:20260215T120000
DTEND;TZID=America/Winnipeg:20260215T140000
DTSTAMP:20260419T220330
CREATED:20260131T024741Z
LAST-MODIFIED:20260131T024741Z
UID:8574-1771156800-1771164000@cornerstoneministries.ca
SUMMARY:Young Adults Lunch
DESCRIPTION:
URL:https://cornerstoneministries.ca/event/young-adults-lunch-11/
LOCATION:Cornerstone Ministries\, 131 new hope drive\, Crystal City\, manitoba\, r0k 0n0\, Canada
CATEGORIES:Young Adults
END:VEVENT
BEGIN:VEVENT
DTSTART;TZID=America/Winnipeg:20260215T120000
DTEND;TZID=America/Winnipeg:20260215T170000
DTSTAMP:20260419T220330
CREATED:20260201T000657Z
LAST-MODIFIED:20260201T000657Z
UID:8583-1771156800-1771174800@cornerstoneministries.ca
SUMMARY:Sr Youth Missions Trip Meeting / Brisket Prep
DESCRIPTION:
URL:https://cornerstoneministries.ca/event/sr-youth-missions-trip-meeting-brisket-prep/
CATEGORIES:SR Youth
END:VEVENT
END:VCALENDAR