BEGIN:VCALENDAR
VERSION:2.0
PRODID:-//Cornerstone Ministries - ECPv4.6.22.1//NONSGML v1.0//EN
CALSCALE:GREGORIAN
METHOD:PUBLISH
X-WR-CALNAME:Cornerstone Ministries
X-ORIGINAL-URL:https://cornerstoneministries.ca
X-WR-CALDESC:Events for Cornerstone Ministries
BEGIN:VEVENT
DTSTART;TZID=America/Winnipeg:20260211T150000
DTEND;TZID=America/Winnipeg:20260211T170000
DTSTAMP:20260420T042948
CREATED:20260107T173545Z
LAST-MODIFIED:20260107T173545Z
UID:8476-1770822000-1770829200@cornerstoneministries.ca
SUMMARY:Homeschool Group
DESCRIPTION:
URL:https://cornerstoneministries.ca/event/homeschool-group-22/
LOCATION:Cornerstone Ministries\, 131 new hope drive\, Crystal City\, manitoba\, r0k 0n0\, Canada
CATEGORIES:Kid's Ministries
END:VEVENT
BEGIN:VEVENT
DTSTART;TZID=America/Winnipeg:20260211T190000
DTEND;TZID=America/Winnipeg:20260211T210000
DTSTAMP:20260420T042948
CREATED:20250826T144943Z
LAST-MODIFIED:20250826T144943Z
UID:8124-1770836400-1770843600@cornerstoneministries.ca
SUMMARY:Jr Youth Night
DESCRIPTION:
URL:https://cornerstoneministries.ca/event/jr-youth-night-119/
LOCATION:manitoba
CATEGORIES:JR Youth
END:VEVENT
END:VCALENDAR