BEGIN:VCALENDAR
VERSION:2.0
PRODID:-//Cornerstone Ministries - ECPv4.6.22.1//NONSGML v1.0//EN
CALSCALE:GREGORIAN
METHOD:PUBLISH
X-WR-CALNAME:Cornerstone Ministries
X-ORIGINAL-URL:https://cornerstoneministries.ca
X-WR-CALDESC:Events for Cornerstone Ministries
BEGIN:VEVENT
DTSTART;TZID=America/Winnipeg:20260210T100000
DTEND;TZID=America/Winnipeg:20260210T120000
DTSTAMP:20260420T061258
CREATED:20260127T205506Z
LAST-MODIFIED:20260127T205506Z
UID:8553-1770717600-1770724800@cornerstoneministries.ca
SUMMARY:Practicing the Way
DESCRIPTION:
URL:https://cornerstoneministries.ca/event/practicing-the-way-3/
LOCATION:Cornerstone Ministries\, 131 new hope drive\, Crystal City\, manitoba\, r0k 0n0\, Canada
CATEGORIES:Study
END:VEVENT
BEGIN:VEVENT
DTSTART;TZID=America/Winnipeg:20260210T183000
DTEND;TZID=America/Winnipeg:20260210T193000
DTSTAMP:20260420T061258
CREATED:20260206T205452Z
LAST-MODIFIED:20260206T205452Z
UID:8596-1770748200-1770751800@cornerstoneministries.ca
SUMMARY:Sr Youth Parent Missions Trip Meeting
DESCRIPTION:
URL:https://cornerstoneministries.ca/event/sr-youth-parent-missions-trip-meeting/
LOCATION:Cornerstone Ministries\, 131 new hope drive\, Crystal City\, manitoba\, r0k 0n0\, Canada
CATEGORIES:Meeting
END:VEVENT
BEGIN:VEVENT
DTSTART;TZID=America/Winnipeg:20260210T193000
DTEND;TZID=America/Winnipeg:20260210T220000
DTSTAMP:20260420T061258
CREATED:20250826T141724Z
LAST-MODIFIED:20250826T141724Z
UID:8069-1770751800-1770760800@cornerstoneministries.ca
SUMMARY:Sr Youth Night
DESCRIPTION:
URL:https://cornerstoneministries.ca/event/sr-youth-night-208/
LOCATION:manitoba
CATEGORIES:SR Youth
END:VEVENT
END:VCALENDAR