BEGIN:VCALENDAR
VERSION:2.0
PRODID:-//Cornerstone Ministries - ECPv4.6.22.1//NONSGML v1.0//EN
CALSCALE:GREGORIAN
METHOD:PUBLISH
X-WR-CALNAME:Cornerstone Ministries
X-ORIGINAL-URL:https://cornerstoneministries.ca
X-WR-CALDESC:Events for Cornerstone Ministries
BEGIN:VEVENT
DTSTART;TZID=America/Winnipeg:20260209T090000
DTEND;TZID=America/Winnipeg:20260209T113000
DTSTAMP:20260420T074213
CREATED:20260127T155152Z
LAST-MODIFIED:20260127T155152Z
UID:8525-1770627600-1770636600@cornerstoneministries.ca
SUMMARY:Sr Men's Coffee & Study
DESCRIPTION:
URL:https://cornerstoneministries.ca/event/sr-mens-coffee-study-3/
LOCATION:Cornerstone Ministries\, 131 new hope drive\, Crystal City\, manitoba\, r0k 0n0\, Canada
CATEGORIES:Mens Ministries
END:VEVENT
BEGIN:VEVENT
DTSTART;TZID=America/Winnipeg:20260209T190000
DTEND;TZID=America/Winnipeg:20260209T210000
DTSTAMP:20260420T074213
CREATED:20251130T234057Z
LAST-MODIFIED:20260116T153410Z
UID:8412-1770663600-1770670800@cornerstoneministries.ca
SUMMARY:Baby Shower for Zoee Letkeman
DESCRIPTION:Zoee Letkeman \n
URL:https://cornerstoneministries.ca/event/baby-shower-2/
LOCATION:manitoba
CATEGORIES:Special Events
END:VEVENT
BEGIN:VEVENT
DTSTART;TZID=America/Winnipeg:20260209T190000
DTEND;TZID=America/Winnipeg:20260209T210000
DTSTAMP:20260420T074213
CREATED:20260127T204126Z
LAST-MODIFIED:20260127T204126Z
UID:8537-1770663600-1770670800@cornerstoneministries.ca
SUMMARY:Emotionally Healthy Spirituality
DESCRIPTION:
URL:https://cornerstoneministries.ca/event/emotionally-healthy-spirituality-3/
LOCATION:Cornerstone Ministries\, 131 new hope drive\, Crystal City\, manitoba\, r0k 0n0\, Canada
CATEGORIES:Study
END:VEVENT
END:VCALENDAR