BEGIN:VCALENDAR
VERSION:2.0
PRODID:-//Cornerstone Ministries - ECPv4.6.22.1//NONSGML v1.0//EN
CALSCALE:GREGORIAN
METHOD:PUBLISH
X-WR-CALNAME:Cornerstone Ministries
X-ORIGINAL-URL:https://cornerstoneministries.ca
X-WR-CALDESC:Events for Cornerstone Ministries
BEGIN:VEVENT
DTSTART;TZID=America/Winnipeg:20260208T083000
DTEND;TZID=America/Winnipeg:20260208T120000
DTSTAMP:20260420T092856
CREATED:20250826T140621Z
LAST-MODIFIED:20250826T140621Z
UID:8025-1770539400-1770552000@cornerstoneministries.ca
SUMMARY:Worship Service
DESCRIPTION:
URL:https://cornerstoneministries.ca/event/worship-service-341/
CATEGORIES:Worship Service
END:VEVENT
BEGIN:VEVENT
DTSTART;TZID=America/Winnipeg:20260208T120000
DTEND;TZID=America/Winnipeg:20260208T140000
DTSTAMP:20260420T092856
CREATED:20260116T153341Z
LAST-MODIFIED:20260116T153341Z
UID:8510-1770552000-1770559200@cornerstoneministries.ca
SUMMARY:Fundraising Lunch for Mexico Missions Trip
DESCRIPTION:
URL:https://cornerstoneministries.ca/event/fundraising-lunch-for-mexico-missions-trip/
LOCATION:Cornerstone Ministries\, 131 new hope drive\, Crystal City\, manitoba\, r0k 0n0\, Canada
CATEGORIES:Special Events
END:VEVENT
END:VCALENDAR