BEGIN:VCALENDAR
VERSION:2.0
PRODID:-//Cornerstone Ministries - ECPv4.6.22.1//NONSGML v1.0//EN
CALSCALE:GREGORIAN
METHOD:PUBLISH
X-WR-CALNAME:Cornerstone Ministries
X-ORIGINAL-URL:https://cornerstoneministries.ca
X-WR-CALDESC:Events for Cornerstone Ministries
BEGIN:VEVENT
DTSTART;TZID=America/Winnipeg:20260203T100000
DTEND;TZID=America/Winnipeg:20260203T120000
DTSTAMP:20260420T172123
CREATED:20260127T205114Z
LAST-MODIFIED:20260127T205114Z
UID:8551-1770112800-1770120000@cornerstoneministries.ca
SUMMARY:Practicing the Way
DESCRIPTION:
URL:https://cornerstoneministries.ca/event/practicing-the-way-2/
LOCATION:Cornerstone Ministries\, 131 new hope drive\, Crystal City\, manitoba\, r0k 0n0\, Canada
CATEGORIES:Study
END:VEVENT
BEGIN:VEVENT
DTSTART;TZID=America/Winnipeg:20260203T193000
DTEND;TZID=America/Winnipeg:20260203T220000
DTSTAMP:20260420T172123
CREATED:20250826T141646Z
LAST-MODIFIED:20250826T141646Z
UID:8067-1770147000-1770156000@cornerstoneministries.ca
SUMMARY:Sr Youth Night
DESCRIPTION:
URL:https://cornerstoneministries.ca/event/sr-youth-night-207/
LOCATION:manitoba
CATEGORIES:SR Youth
END:VEVENT
END:VCALENDAR