BEGIN:VCALENDAR
VERSION:2.0
PRODID:-//Cornerstone Ministries - ECPv4.6.22.1//NONSGML v1.0//EN
CALSCALE:GREGORIAN
METHOD:PUBLISH
X-WR-CALNAME:Cornerstone Ministries
X-ORIGINAL-URL:https://cornerstoneministries.ca
X-WR-CALDESC:Events for Cornerstone Ministries
BEGIN:VEVENT
DTSTART;TZID=America/Winnipeg:20260127T100000
DTEND;TZID=America/Winnipeg:20260127T120000
DTSTAMP:20260421T041257
CREATED:20260127T204831Z
LAST-MODIFIED:20260127T204831Z
UID:8549-1769508000-1769515200@cornerstoneministries.ca
SUMMARY:Practicing the Way
DESCRIPTION:
URL:https://cornerstoneministries.ca/event/practicing-the-way/
LOCATION:Cornerstone Ministries\, 131 new hope drive\, Crystal City\, manitoba\, r0k 0n0\, Canada
CATEGORIES:Study
END:VEVENT
BEGIN:VEVENT
DTSTART;TZID=America/Winnipeg:20260127T193000
DTEND;TZID=America/Winnipeg:20260127T220000
DTSTAMP:20260421T041257
CREATED:20250820T180521Z
LAST-MODIFIED:20250820T180521Z
UID:8000-1769542200-1769551200@cornerstoneministries.ca
SUMMARY:Sr Youth Night
DESCRIPTION:
URL:https://cornerstoneministries.ca/event/sr-youth-night-205/
LOCATION:manitoba
CATEGORIES:SR Youth
END:VEVENT
END:VCALENDAR