BEGIN:VCALENDAR
VERSION:2.0
PRODID:-//Cornerstone Ministries - ECPv4.6.22.1//NONSGML v1.0//EN
CALSCALE:GREGORIAN
METHOD:PUBLISH
X-WR-CALNAME:Cornerstone Ministries
X-ORIGINAL-URL:https://cornerstoneministries.ca
X-WR-CALDESC:Events for Cornerstone Ministries
BEGIN:VEVENT
DTSTART;TZID=America/Winnipeg:20260123T180000
DTEND;TZID=America/Winnipeg:20260125T120000
DTSTAMP:20260421T072925
CREATED:20251201T151441Z
LAST-MODIFIED:20251213T155751Z
UID:8415-1769191200-1769342400@cornerstoneministries.ca
SUMMARY:Ladies' Retreat
DESCRIPTION:
URL:https://cornerstoneministries.ca/event/ladies-retreat-6/
LOCATION:Winkler Bible Camp
CATEGORIES:Womens Ministries
END:VEVENT
BEGIN:VEVENT
DTSTART;TZID=America/Winnipeg:20260125T083000
DTEND;TZID=America/Winnipeg:20260125T120000
DTSTAMP:20260421T072925
CREATED:20250826T140534Z
LAST-MODIFIED:20250826T140534Z
UID:8021-1769329800-1769342400@cornerstoneministries.ca
SUMMARY:Worship Service
DESCRIPTION:
URL:https://cornerstoneministries.ca/event/worship-service-339/
CATEGORIES:Worship Service
END:VEVENT
END:VCALENDAR