BEGIN:VCALENDAR
VERSION:2.0
PRODID:-//Cornerstone Ministries - ECPv4.6.22.1//NONSGML v1.0//EN
CALSCALE:GREGORIAN
METHOD:PUBLISH
X-WR-CALNAME:Cornerstone Ministries
X-ORIGINAL-URL:https://cornerstoneministries.ca
X-WR-CALDESC:Events for Cornerstone Ministries
BEGIN:VEVENT
DTSTART;TZID=America/Winnipeg:20260111T083000
DTEND;TZID=America/Winnipeg:20260111T120000
DTSTAMP:20260424T215434
CREATED:20250826T140447Z
LAST-MODIFIED:20250826T140447Z
UID:8017-1768120200-1768132800@cornerstoneministries.ca
SUMMARY:Worship Service
DESCRIPTION:
URL:https://cornerstoneministries.ca/event/worship-service-337/
CATEGORIES:Worship Service
END:VEVENT
BEGIN:VEVENT
DTSTART;TZID=America/Winnipeg:20260111T143000
DTEND;TZID=America/Winnipeg:20260111T203000
DTSTAMP:20260424T215434
CREATED:20251021T151553Z
LAST-MODIFIED:20251118T171935Z
UID:8343-1768141800-1768163400@cornerstoneministries.ca
SUMMARY:Family Gathering
DESCRIPTION:Karen Friesen \n
URL:https://cornerstoneministries.ca/event/family-gathering-16/
LOCATION:Cornerstone Ministries\, 131 new hope drive\, Crystal City\, manitoba\, r0k 0n0\, Canada
CATEGORIES:Rentals
END:VEVENT
END:VCALENDAR