BEGIN:VCALENDAR
VERSION:2.0
PRODID:-//Cornerstone Ministries - ECPv4.6.22.1//NONSGML v1.0//EN
CALSCALE:GREGORIAN
METHOD:PUBLISH
X-WR-CALNAME:Cornerstone Ministries
X-ORIGINAL-URL:https://cornerstoneministries.ca
X-WR-CALDESC:Events for Cornerstone Ministries
BEGIN:VEVENT
DTSTART;TZID=America/Winnipeg:20251224T190000
DTEND;TZID=America/Winnipeg:20251224T210000
DTSTAMP:20260422T180038
CREATED:20250820T180711Z
LAST-MODIFIED:20250820T180711Z
UID:8004-1766602800-1766610000@cornerstoneministries.ca
SUMMARY:Christmas Eve Service
DESCRIPTION:
URL:https://cornerstoneministries.ca/event/christmas-eve-service-8/
CATEGORIES:Worship Service
END:VEVENT
END:VCALENDAR