BEGIN:VCALENDAR
VERSION:2.0
PRODID:-//Cornerstone Ministries - ECPv4.6.22.1//NONSGML v1.0//EN
CALSCALE:GREGORIAN
METHOD:PUBLISH
X-WR-CALNAME:Cornerstone Ministries
X-ORIGINAL-URL:https://cornerstoneministries.ca
X-WR-CALDESC:Events for Cornerstone Ministries
BEGIN:VEVENT
DTSTART;TZID=America/Winnipeg:20251220T083000
DTEND;TZID=America/Winnipeg:20251220T103000
DTSTAMP:20260422T115934
CREATED:20251213T155453Z
LAST-MODIFIED:20251213T155453Z
UID:8432-1766219400-1766226600@cornerstoneministries.ca
SUMMARY:Men's Conquer Series
DESCRIPTION:
URL:https://cornerstoneministries.ca/event/mens-conquer-series-11/
LOCATION:Cornerstone Ministries\, 131 new hope drive\, Crystal City\, manitoba\, r0k 0n0\, Canada
CATEGORIES:Mens Ministries
END:VEVENT
BEGIN:VEVENT
DTSTART;TZID=America/Winnipeg:20251220T090000
DTEND;TZID=America/Winnipeg:20251220T170000
DTSTAMP:20260422T115934
CREATED:20251101T150907Z
LAST-MODIFIED:20251118T171708Z
UID:8358-1766221200-1766250000@cornerstoneministries.ca
SUMMARY:Family Gathering
DESCRIPTION:Stephanie Buhler \n
URL:https://cornerstoneministries.ca/event/family-gathering-18/
LOCATION:manitoba
CATEGORIES:Rentals
END:VEVENT
END:VCALENDAR