BEGIN:VCALENDAR
VERSION:2.0
PRODID:-//Cornerstone Ministries - ECPv4.6.22.1//NONSGML v1.0//EN
CALSCALE:GREGORIAN
METHOD:PUBLISH
X-WR-CALNAME:Cornerstone Ministries
X-ORIGINAL-URL:https://cornerstoneministries.ca
X-WR-CALDESC:Events for Cornerstone Ministries
BEGIN:VEVENT
DTSTART;TZID=America/Winnipeg:20251218T103000
DTEND;TZID=America/Winnipeg:20251218T120000
DTSTAMP:20260422T044728
CREATED:20250919T162733Z
LAST-MODIFIED:20251203T172200Z
UID:8303-1766053800-1766059200@cornerstoneministries.ca
SUMMARY:Mom's Group
DESCRIPTION:Contact Rachel Picard \n
URL:https://cornerstoneministries.ca/event/moms-group-26/
CATEGORIES:Kid's Ministries
END:VEVENT
BEGIN:VEVENT
DTSTART;TZID=America/Winnipeg:20251218T130000
DTEND;TZID=America/Winnipeg:20251218T210000
DTSTAMP:20260422T044728
CREATED:20250917T200619Z
LAST-MODIFIED:20250917T200619Z
UID:8263-1766062800-1766091600@cornerstoneministries.ca
SUMMARY:CCEY Christmas Concert Storm Date
DESCRIPTION:
URL:https://cornerstoneministries.ca/event/ccey-christmas-concert-storm-date/
CATEGORIES:Rentals
END:VEVENT
END:VCALENDAR