BEGIN:VCALENDAR
VERSION:2.0
PRODID:-//Cornerstone Ministries - ECPv4.6.22.1//NONSGML v1.0//EN
CALSCALE:GREGORIAN
METHOD:PUBLISH
X-WR-CALNAME:Cornerstone Ministries
X-ORIGINAL-URL:https://cornerstoneministries.ca
X-WR-CALDESC:Events for Cornerstone Ministries
BEGIN:VEVENT
DTSTART;TZID=America/Winnipeg:20251215T090000
DTEND;TZID=America/Winnipeg:20251215T120000
DTSTAMP:20260422T001359
CREATED:20251106T160611Z
LAST-MODIFIED:20251106T160611Z
UID:8374-1765789200-1765800000@cornerstoneministries.ca
SUMMARY:Senior Men's Coffee & Study
DESCRIPTION:For more information talk to Vern Reimer \n
URL:https://cornerstoneministries.ca/event/senior-mens-coffee-study-2/
LOCATION:Cornerstone Ministries\, 131 new hope drive\, Crystal City\, manitoba\, r0k 0n0\, Canada
CATEGORIES:Mens Ministries
END:VEVENT
BEGIN:VEVENT
DTSTART;TZID=America/Winnipeg:20251215T193000
DTEND;TZID=America/Winnipeg:20251215T220000
DTSTAMP:20260422T001359
CREATED:20250820T175650Z
LAST-MODIFIED:20251128T195542Z
UID:7980-1765827000-1765836000@cornerstoneministries.ca
SUMMARY:Sr Youth Alumni Night
DESCRIPTION:
URL:https://cornerstoneministries.ca/event/sr-youth-night-201/
LOCATION:manitoba
CATEGORIES:SR Youth
END:VEVENT
BEGIN:VEVENT
DTSTART;TZID=America/Winnipeg:20251215T193000
DTEND;TZID=America/Winnipeg:20251215T210000
DTSTAMP:20260422T001359
CREATED:20251203T172922Z
LAST-MODIFIED:20251203T172922Z
UID:8423-1765827000-1765832400@cornerstoneministries.ca
SUMMARY:Mexico Missions Trip Informational Meeting
DESCRIPTION:
URL:https://cornerstoneministries.ca/event/mexico-missions-trip-informational-meeting/
LOCATION:Cornerstone Ministries\, 131 new hope drive\, Crystal City\, manitoba\, r0k 0n0\, Canada
CATEGORIES:Meeting
END:VEVENT
END:VCALENDAR