BEGIN:VCALENDAR
VERSION:2.0
PRODID:-//Cornerstone Ministries - ECPv4.6.22.1//NONSGML v1.0//EN
CALSCALE:GREGORIAN
METHOD:PUBLISH
X-WR-CALNAME:Cornerstone Ministries
X-ORIGINAL-URL:https://cornerstoneministries.ca
X-WR-CALDESC:Events for Cornerstone Ministries
BEGIN:VEVENT
DTSTART;TZID=America/Winnipeg:20251214T083000
DTEND;TZID=America/Winnipeg:20251214T120000
DTSTAMP:20260421T223932
CREATED:20250820T164736Z
LAST-MODIFIED:20250820T164736Z
UID:7915-1765701000-1765713600@cornerstoneministries.ca
SUMMARY:Worship Service
DESCRIPTION:Prayer Meeting @ 8:30am \nSunday School @ 9:30am \nWorship Service @ 10:30am \n
URL:https://cornerstoneministries.ca/event/worship-service-333/
CATEGORIES:Worship Service
END:VEVENT
BEGIN:VEVENT
DTSTART;TZID=America/Winnipeg:20251214T120000
DTEND;TZID=America/Winnipeg:20251214T150000
DTSTAMP:20260421T223932
CREATED:20251203T172843Z
LAST-MODIFIED:20251203T172843Z
UID:8421-1765713600-1765724400@cornerstoneministries.ca
SUMMARY:Young Adults Potluck
DESCRIPTION:
URL:https://cornerstoneministries.ca/event/young-adults-potluck/
CATEGORIES:Young Adults
END:VEVENT
BEGIN:VEVENT
DTSTART;TZID=America/Winnipeg:20251214T140000
DTEND;TZID=America/Winnipeg:20251214T200000
DTSTAMP:20260421T223932
CREATED:20251109T145327Z
LAST-MODIFIED:20251118T171609Z
UID:8378-1765720800-1765742400@cornerstoneministries.ca
SUMMARY:Family Gathering
DESCRIPTION:Joyce Falk \n
URL:https://cornerstoneministries.ca/event/family-gather/
CATEGORIES:Rentals
END:VEVENT
END:VCALENDAR