BEGIN:VCALENDAR
VERSION:2.0
PRODID:-//Cornerstone Ministries - ECPv4.6.22.1//NONSGML v1.0//EN
CALSCALE:GREGORIAN
METHOD:PUBLISH
X-WR-CALNAME:Cornerstone Ministries
X-ORIGINAL-URL:https://cornerstoneministries.ca
X-WR-CALDESC:Events for Cornerstone Ministries
BEGIN:VEVENT
DTSTART;TZID=America/Winnipeg:20251127T103000
DTEND;TZID=America/Winnipeg:20251127T120000
DTSTAMP:20260420T204710
CREATED:20250919T162537Z
LAST-MODIFIED:20251203T172231Z
UID:8297-1764239400-1764244800@cornerstoneministries.ca
SUMMARY:Mom's Group
DESCRIPTION:Contact Rachel Picard \n
URL:https://cornerstoneministries.ca/event/moms-group-23/
CATEGORIES:Kid's Ministries
END:VEVENT
BEGIN:VEVENT
DTSTART;TZID=America/Winnipeg:20251127T190000
DTEND;TZID=America/Winnipeg:20251127T210000
DTSTAMP:20260420T204710
CREATED:20251124T200259Z
LAST-MODIFIED:20251124T200259Z
UID:8402-1764270000-1764277200@cornerstoneministries.ca
SUMMARY:Ladies' Event: Are You Ready?
DESCRIPTION:
URL:https://cornerstoneministries.ca/event/ladies-event-are-you-ready/
LOCATION:Cornerstone Ministries\, 131 new hope drive\, Crystal City\, manitoba\, r0k 0n0\, Canada
CATEGORIES:Womens Ministries
END:VEVENT
END:VCALENDAR