BEGIN:VCALENDAR
VERSION:2.0
PRODID:-//Cornerstone Ministries - ECPv4.6.22.1//NONSGML v1.0//EN
CALSCALE:GREGORIAN
METHOD:PUBLISH
X-WR-CALNAME:Cornerstone Ministries
X-ORIGINAL-URL:https://cornerstoneministries.ca
X-WR-CALDESC:Events for Cornerstone Ministries
BEGIN:VEVENT
DTSTART;TZID=America/Winnipeg:20251126T133000
DTEND;TZID=America/Winnipeg:20251126T163000
DTSTAMP:20260420T191953
CREATED:20250904T165110Z
LAST-MODIFIED:20250904T165110Z
UID:8201-1764163800-1764174600@cornerstoneministries.ca
SUMMARY:GriefShare
DESCRIPTION:
URL:https://cornerstoneministries.ca/event/griefshare-31/
CATEGORIES:Meeting
END:VEVENT
BEGIN:VEVENT
DTSTART;TZID=America/Winnipeg:20251126T154500
DTEND;TZID=America/Winnipeg:20251126T171500
DTSTAMP:20260420T191953
CREATED:20250820T175909Z
LAST-MODIFIED:20250820T175909Z
UID:7984-1764171900-1764177300@cornerstoneministries.ca
SUMMARY:Quest
DESCRIPTION:
URL:https://cornerstoneministries.ca/event/quest-62/
CATEGORIES:Quest
END:VEVENT
BEGIN:VEVENT
DTSTART;TZID=America/Winnipeg:20251126T193000
DTEND;TZID=America/Winnipeg:20251126T220000
DTSTAMP:20260420T191953
CREATED:20250904T165356Z
LAST-MODIFIED:20250904T165356Z
UID:8215-1764185400-1764194400@cornerstoneministries.ca
SUMMARY:Young Adults Gym Night
DESCRIPTION:
URL:https://cornerstoneministries.ca/event/young-adults-gym-night-45/
CATEGORIES:Young Adults
END:VEVENT
END:VCALENDAR